BEGIN:VCALENDAR
VERSION:2.0
PRODID:-//Kokni Muslim Association - ECPv5.14.1//NONSGML v1.0//EN
CALSCALE:GREGORIAN
METHOD:PUBLISH
X-WR-CALNAME:Kokni Muslim Association
X-ORIGINAL-URL:https://www.kokninairobi.com
X-WR-CALDESC:Events for Kokni Muslim Association
REFRESH-INTERVAL;VALUE=DURATION:PT1H
X-Robots-Tag:noindex
X-PUBLISHED-TTL:PT1H
BEGIN:VTIMEZONE
TZID:UTC
BEGIN:STANDARD
TZOFFSETFROM:+0000
TZOFFSETTO:+0000
TZNAME:UTC
DTSTART:20230101T000000
END:STANDARD
END:VTIMEZONE
BEGIN:VEVENT
DTSTART;TZID=UTC:20230430T103000
DTEND;TZID=UTC:20230430T140000
DTSTAMP:20260419T154616
CREATED:20230524T200118Z
LAST-MODIFIED:20230524T200815Z
UID:5008-1682850600-1682863200@www.kokninairobi.com
SUMMARY:KMA 95th AGM
DESCRIPTION:The Kokni Muslim Association\, Nairobi held its 95th AGM on Sunday\, 30th April 2023. Alhamdulillah the event was attended by 68 community members both physically and virtually. \nHighlights of the meeting were: \n– A Resolution was passed by majority of the members to have the Elections deferred so that the current Managing committee can continue with the impressive work they have put in over the last two years\, and work on completing the building project that they have initiated\, consisting of one block of 8 flats and a Community Hall\, inshaAllah. \n– A draw was conducted for the lucky winner of the Quiz competition\, which was posted on our website\, in which Thirty three members participated. The winning member\, drawn by Mr. Ismail Sheikh\, was Asad Abdul Wahab Alimiya\, who was awarded a Samsung mobile phone. \n– The Chairman\, Hanif Sangrar\, presented tokens of appreciation to: \nAalia Abdul Kadir Hawa – for her professional secretarial work done with dedication; \nSaqib Mustafa Khambiye – for being a keen participant and all rounder\, apart from carrying out his role as Treasurer diligently; and \nMuzzamil Khambiye – for handling his role as Tenancy sub-committee chairperson meticulously and participating actively in our monthly meetings.
URL:https://www.kokninairobi.com/event/kma-95th-agm/
LOCATION:Kokni Muslim Community Centre\, Kokni Muslim Community Centre\, Nairobi\, Kenya
END:VEVENT
END:VCALENDAR