BEGIN:VCALENDAR
VERSION:2.0
PRODID:-//Kokni Muslim Association - ECPv5.14.1//NONSGML v1.0//EN
CALSCALE:GREGORIAN
METHOD:PUBLISH
X-WR-CALNAME:Kokni Muslim Association
X-ORIGINAL-URL:https://www.kokninairobi.com
X-WR-CALDESC:Events for Kokni Muslim Association
REFRESH-INTERVAL;VALUE=DURATION:PT1H
X-Robots-Tag:noindex
X-PUBLISHED-TTL:PT1H
BEGIN:VTIMEZONE
TZID:UTC
BEGIN:STANDARD
TZOFFSETFROM:+0000
TZOFFSETTO:+0000
TZNAME:UTC
DTSTART:20230101T000000
END:STANDARD
END:VTIMEZONE
BEGIN:VEVENT
DTSTART;TZID=UTC:20230319T093000
DTEND;TZID=UTC:20230319T130000
DTSTAMP:20260419T172225
CREATED:20230323T075215Z
LAST-MODIFIED:20230323T115437Z
UID:4877-1679218200-1679230800@www.kokninairobi.com
SUMMARY:Masjid Bukhari Cleaning 2023
DESCRIPTION:On March 19th 2023\, a fusion of generations came together with the aim to clean up our Masjid Bukhari. We began at 9.30 a.m with more help joining in as we worked together. At 1 p.m. we took a break for Dhuhr prayers and some refreshments\, and then continued cleaning up to ensure our holy place is well kept. \nMasjid cleaning is a yearly event organised by the Religion Committee before commencement of the holy month of Ramadan. \nHighlights from the event\n\n\n\n\n\n\n\n\n\n\n\n\n\n   \n\n\n    \n\n\n            \n\nmasjid-cleaning-2023-08                \n\n				\n           \n   \n\n\n\n    \n\n\n            \n\nmasjid-cleaning-2023-07                \n\n				\n           \n   \n\n\n\n    \n\n\n            \n\nmasjid-cleaning-2023-06                \n\n				\n           \n   \n\n\n\n    \n\n\n            \n\nmasjid-cleaning-2023-05                \n\n				\n           \n   \n\n\n\n    \n\n\n            \n\nmasjid-cleaning-2023-04                \n\n				\n           \n   \n\n\n\n    \n\n\n            \n\nmasjid-cleaning-2023-03                \n\n				\n           \n   \n\n\n\n    \n\n\n            \n\nmasjid-cleaning-2023-02                \n\n				\n           \n   \n\n\n\n    \n\n\n            \n\nmasjid-cleaning-2023-01                \n\n				\n           \n   \n\n\n\n    \n\n\n            \n\nmasjid-cleaning-2023-12                \n\n				\n           \n   \n\n\n\n    \n\n\n            \n\nmasjid-cleaning-2023-11                \n\n				\n           \n   \n\n\n\n    \n\n\n            \n\nmasjid-cleaning-2023-10                \n\n				\n           \n   \n\n\n\n    \n\n\n            \n\nmasjid-cleaning-2023-09
URL:https://www.kokninairobi.com/event/masjid-bukhari-cleaning-2023/
LOCATION:Masjid Bukhari\, Masjid Bukhari\, Nairobi\, Kenya
CATEGORIES:Religious Programs
ATTACH;FMTTYPE=image/webp:https://www.kokninairobi.com/wp-content/uploads/2023/03/masjid-bukhari-cleaning-2023.webp
END:VEVENT
END:VCALENDAR