BEGIN:VCALENDAR
VERSION:2.0
PRODID:-//Kokni Muslim Association - ECPv5.14.1//NONSGML v1.0//EN
CALSCALE:GREGORIAN
METHOD:PUBLISH
X-WR-CALNAME:Kokni Muslim Association
X-ORIGINAL-URL:https://www.kokninairobi.com
X-WR-CALDESC:Events for Kokni Muslim Association
REFRESH-INTERVAL;VALUE=DURATION:PT1H
X-Robots-Tag:noindex
X-PUBLISHED-TTL:PT1H
BEGIN:VTIMEZONE
TZID:UTC
BEGIN:STANDARD
TZOFFSETFROM:+0000
TZOFFSETTO:+0000
TZNAME:UTC
DTSTART:20220101T000000
END:STANDARD
END:VTIMEZONE
BEGIN:VEVENT
DTSTART;VALUE=DATE:20220717
DTEND;VALUE=DATE:20220718
DTSTAMP:20260420T055015
CREATED:20220717T143700Z
LAST-MODIFIED:20230323T055820Z
UID:4473-1658016000-1658102399@www.kokninairobi.com
SUMMARY:Eid BBQ Lunch and Fun Day!
DESCRIPTION:The Kokni Management committee together with the Ladies and Youth Committee organized an Eid Barbeque lunch hosted at Evergreen Park on Sunday 17th July 2022. The event turnout was great as 152 adults and 35 children were attendees. \nThe event kicked off at 11 am with registration at the gate followed by icebreakers with adults and kids getting them warmed up in the cold weather. \nThe fun began with a series of games such as musical chairs\, activities for children such as races\, face painting and bouncing castle. The highlight of the event was the delicious BBQ catered by Crazy Grill. The afternoon further continued with fun and games for kids\, teenagers\, couple and family races. The men and women even got a chance to show off their strength in multiple games of Tug of War! As the evening dawned dessert and chai was served as members mingled\, chatted and socialized as this was one of the bigger events involving a great number of jamaat members. \nAll in all\, it was a fun\, active and social event.
URL:https://www.kokninairobi.com/event/eid-bbq-lunch-and-fun-day/
LOCATION:Evergreen Park\, Evergreen Park\, Kiambu Road Kiambu\, Kenya
CATEGORIES:Ladies Programs,Youth Programs
ATTACH;FMTTYPE=image/webp:https://www.kokninairobi.com/wp-content/uploads/2022/10/eid-bbq-2022.webp
END:VEVENT
END:VCALENDAR