BEGIN:VCALENDAR
VERSION:2.0
PRODID:-//Kokni Muslim Association - ECPv5.14.1//NONSGML v1.0//EN
CALSCALE:GREGORIAN
METHOD:PUBLISH
X-WR-CALNAME:Kokni Muslim Association
X-ORIGINAL-URL:https://www.kokninairobi.com
X-WR-CALDESC:Events for Kokni Muslim Association
REFRESH-INTERVAL;VALUE=DURATION:PT1H
X-Robots-Tag:noindex
X-PUBLISHED-TTL:PT1H
BEGIN:VTIMEZONE
TZID:UTC
BEGIN:STANDARD
TZOFFSETFROM:+0000
TZOFFSETTO:+0000
TZNAME:UTC
DTSTART:20220101T000000
END:STANDARD
END:VTIMEZONE
BEGIN:VEVENT
DTSTART;TZID=UTC:20220911T110000
DTEND;TZID=UTC:20220911T140000
DTSTAMP:20260420T001515
CREATED:20220911T154018Z
LAST-MODIFIED:20230317T154421Z
UID:4833-1662894000-1662904800@www.kokninairobi.com
SUMMARY:Prostate Talk
DESCRIPTION:The Medical Committee deliberated on ways to educate and enlighten the Community on health conditions\, especially metabolic diseases and cancers\, so that these can be diagnosed and detected early at their onset since cures are now possible. \nTo this end Dr. Saeed Samnakay\, Consultant Urologist at the Aga Khan University Hospital\, Nairobi\, was invited to talk about ‘Prostate and Men’s Health’. The function was facilitated at our grounds in South C on 11th September\, 2022 at 11am. \nDr. Samnakay highlighted the fact that both\, benign and cancerous prostate conditions ranked in the top five medical problems worldwide. But he also clarified that much progress has been made over the past decade in diagnosis and treatment options so that even cancer of the prostate is curable if men present themselves early to the urologist. Men should seek medical advice whenever they notice a a reduced force of the urinary stream\, increase in urinary frequency by day or night\, blood in urine or pain during urination. The most important point he made was that an annual medical checkup to include a PSA blood test for all men over 40 years of age was absolutely vital. \nAn interactive session with the audience was most beneficial. The emphasis on healthy eating and drinking habits\, regular exercise and lifestyles to reduce stress levels featured high in achieving a balanced and enjoyable living.\nWe intend to feature other speakers to highlight the several medical issues we face. \nHighlights from the event\n\n\n\n\n\n\n\n\n\n\n\n\n\n   \n\n\n    \n\n\n            \n\nprostate-talk-4                \n\n				\n           \n   \n\n\n\n    \n\n\n            \n\nprostate-talk-5                \n\n				\n           \n   \n\n\n\n    \n\n\n            \n\nprostate-talk-3                \n\n				\n           \n   \n\n\n\n    \n\n\n            \n\nprostate-talk-2                \n\n				\n           \n   \n\n\n\n    \n\n\n            \n\nprostate-talk-1
URL:https://www.kokninairobi.com/event/prostate-talk/
LOCATION:Kokni Muslim Community Centre\, Kokni Muslim Community Centre\, Nairobi\, Kenya
CATEGORIES:Medical Programs
ATTACH;FMTTYPE=image/webp:https://www.kokninairobi.com/wp-content/uploads/2023/03/prostate-talk.webp
END:VEVENT
END:VCALENDAR